BEGIN:VCALENDAR
VERSION:2.0
PRODID:-//Cantor Alisson Salvatore - ECPv6.15.20//NONSGML v1.0//EN
CALSCALE:GREGORIAN
METHOD:PUBLISH
X-WR-CALNAME:Cantor Alisson Salvatore
X-ORIGINAL-URL:https://cantoralisson.com.br
X-WR-CALDESC:Eventos para Cantor Alisson Salvatore
REFRESH-INTERVAL;VALUE=DURATION:PT1H
X-Robots-Tag:noindex
X-PUBLISHED-TTL:PT1H
BEGIN:VTIMEZONE
TZID:America/Sao_Paulo
BEGIN:STANDARD
TZOFFSETFROM:-0300
TZOFFSETTO:-0300
TZNAME:-03
DTSTART:20230101T000000
END:STANDARD
END:VTIMEZONE
BEGIN:VEVENT
DTSTART;TZID=America/Sao_Paulo:20241109T200000
DTEND;TZID=America/Sao_Paulo:20241109T230000
DTSTAMP:20260423T113144
CREATED:20231117T003042Z
LAST-MODIFIED:20240515T192915Z
UID:312-1731182400-1731193200@cantoralisson.com.br
SUMMARY:Show de Lançamento do Novo Álbum
DESCRIPTION:Álbum Kerigma
URL:https://cantoralisson.com.br/evento/show-de-lancamento-do-novo-album/
END:VEVENT
END:VCALENDAR